BEGIN:VCALENDAR
VERSION:2.0
PRODID:-//Catoco - ECPv6.15.20//NONSGML v1.0//EN
CALSCALE:GREGORIAN
METHOD:PUBLISH
X-WR-CALNAME:Catoco
X-ORIGINAL-URL:https://www.catoco.net
X-WR-CALDESC:Évènements pour Catoco
REFRESH-INTERVAL;VALUE=DURATION:PT1H
X-Robots-Tag:noindex
X-PUBLISHED-TTL:PT1H
BEGIN:VTIMEZONE
TZID:Europe/Paris
BEGIN:DAYLIGHT
TZOFFSETFROM:+0100
TZOFFSETTO:+0200
TZNAME:CEST
DTSTART:20230326T010000
END:DAYLIGHT
BEGIN:STANDARD
TZOFFSETFROM:+0200
TZOFFSETTO:+0100
TZNAME:CET
DTSTART:20231029T010000
END:STANDARD
BEGIN:DAYLIGHT
TZOFFSETFROM:+0100
TZOFFSETTO:+0200
TZNAME:CEST
DTSTART:20240331T010000
END:DAYLIGHT
BEGIN:STANDARD
TZOFFSETFROM:+0200
TZOFFSETTO:+0100
TZNAME:CET
DTSTART:20241027T010000
END:STANDARD
BEGIN:DAYLIGHT
TZOFFSETFROM:+0100
TZOFFSETTO:+0200
TZNAME:CEST
DTSTART:20250330T010000
END:DAYLIGHT
BEGIN:STANDARD
TZOFFSETFROM:+0200
TZOFFSETTO:+0100
TZNAME:CET
DTSTART:20251026T010000
END:STANDARD
END:VTIMEZONE
BEGIN:VEVENT
DTSTART;TZID=Europe/Paris:20240629T193000
DTEND;TZID=Europe/Paris:20240629T223000
DTSTAMP:20260420T190622
CREATED:20240206T163649Z
LAST-MODIFIED:20240608T123005Z
UID:39442-1719689400-1719700200@www.catoco.net
SUMMARY:Repas fraternel et soirée Net for God- Choisy-au-Bac
DESCRIPTION:Nous serons heureux de vous accueillir pour le nouveau film Net For God \nVENDREDI 14 Juin\,  Film « Caroline Welby – EN PREMIÈRE LIGNE« . \nNous sommes partis à Londres\, rencontrer Caroline Welby\, l’épouse de l’Archevêque Justin Welby\, primat de la Communion Anglicane. \nNous avons été touchés par son accueil\, par celui de son équipe et par son témoignage. Animée par un esprit d’hospitalité\, Caroline Welby revient sur son appel personnel et comment elle s’engage auprès des femmes. A travers « Women on the frontline »\, elle propose des retraites et des formations à destination des épouses d’évêques et les encourage notamment dans un ministère de réconciliation. \nLa vidéo de ce mois \n » Caroline Welby – On the frontline «  \npropose donc de découvrir son témoignage et l’appel à déployer nos charismes au sein de nos Eglises. \n\nPensez à activer le son (en bas à droite sur la vidéo) \nDans l’attente et la joie de vous retrouver \, nous vous embrassons \nPriscilla et Christophe\, Agnès et Barthélémy\nP.s. : Merci de signaler votre venue par mail ou téléphone\nTel.: 06 82 72 69 08. e-mail: priscilla.machu@gmail.com
URL:https://www.catoco.net/evenements/soiree-net-for-god-choisy-20240629/
LOCATION:Christophe et Priscilla MACHU\, 8 square Paul Verlaine\, Choisy au Bac\, 60750\, France
CATEGORIES:Accueil,Prière
ATTACH;FMTTYPE=image/png:https://www.catoco.net/wp-content/uploads/2016/11/netforgod.png
END:VEVENT
END:VCALENDAR