BEGIN:VCALENDAR
VERSION:2.0
PRODID:-//Catoco - ECPv6.15.20//NONSGML v1.0//EN
CALSCALE:GREGORIAN
METHOD:PUBLISH
X-WR-CALNAME:Catoco
X-ORIGINAL-URL:https://www.catoco.net
X-WR-CALDESC:Évènements pour Catoco
REFRESH-INTERVAL;VALUE=DURATION:PT1H
X-Robots-Tag:noindex
X-PUBLISHED-TTL:PT1H
BEGIN:VTIMEZONE
TZID:Europe/Paris
BEGIN:DAYLIGHT
TZOFFSETFROM:+0100
TZOFFSETTO:+0200
TZNAME:CEST
DTSTART:20240331T010000
END:DAYLIGHT
BEGIN:STANDARD
TZOFFSETFROM:+0200
TZOFFSETTO:+0100
TZNAME:CET
DTSTART:20241027T010000
END:STANDARD
BEGIN:DAYLIGHT
TZOFFSETFROM:+0100
TZOFFSETTO:+0200
TZNAME:CEST
DTSTART:20250330T010000
END:DAYLIGHT
BEGIN:STANDARD
TZOFFSETFROM:+0200
TZOFFSETTO:+0100
TZNAME:CET
DTSTART:20251026T010000
END:STANDARD
BEGIN:DAYLIGHT
TZOFFSETFROM:+0100
TZOFFSETTO:+0200
TZNAME:CEST
DTSTART:20260329T010000
END:DAYLIGHT
BEGIN:STANDARD
TZOFFSETFROM:+0200
TZOFFSETTO:+0100
TZNAME:CET
DTSTART:20261025T010000
END:STANDARD
END:VTIMEZONE
BEGIN:VEVENT
DTSTART;TZID=Europe/Paris:20250601T100000
DTEND;TZID=Europe/Paris:20250601T180000
DTSTAMP:20260423T104242
CREATED:20250522T093746Z
LAST-MODIFIED:20250522T093854Z
UID:43569-1748772000-1748800800@www.catoco.net
SUMMARY:Vente au profit de Saint-Jacques et Saint-Antoine
DESCRIPTION:L’association Les Amis de Saint-Jacques et de Saint-Antoine organise une vente le dimanche 1 er juin de 10h à 18h dont les bénéfices serviront à valoriser ces deux églises dans leurs dimensions cultuelle et culturelle. Vous pouvez contribuer en apportant des objets (hors livres) le samedi de 10h à 12h\, à partir du 26 avril à la maison paroissiale (51 rue du Dahomey)\, en aidant à l’installation le samedi\, à la vente le dimanche\, ou au rangement le lundi. \nContact : Christian Dubreuil 📞  06 10 99 52 60
URL:https://www.catoco.net/evenements/vente-au-profit-de-saint-jacques-et-saint-antoine/
LOCATION:Maison Paroissiale\, 51 rue Pierre Sauvage\, Compiègne\, 60200\, France
CATEGORIES:Association
ATTACH;FMTTYPE=image/jpeg:https://www.catoco.net/wp-content/uploads/2025/05/Brocante-StAnoineEtStJacques.jpg
END:VEVENT
BEGIN:VEVENT
DTSTART;TZID=Europe/Paris:20250605T200000
DTEND;TZID=Europe/Paris:20250605T223000
DTSTAMP:20260423T104242
CREATED:20250529T193302Z
LAST-MODIFIED:20250529T193302Z
UID:43604-1749153600-1749162600@www.catoco.net
SUMMARY:Ciné-club Paraboles - Rio Bravo
DESCRIPTION:Bonjour à tous\, amis cinéphiles ! \nEt rendez-vous dans une semaine  ! \nLe jeudi 5 juin 2025\, le Ciné-club Paraboles s’installe à nouveau au cinéma Majestic de Jaux pour vous faire découvrir ou redécouvrir un des très grands westerns de l’histoire du cinéma : \n totalement complet ! \n totalement magnifique ! \n totalement mythique ! \n  RIO BRAVO \nde Howard Hawks (1959) (VOST) \nIl y a LA bande musicale jouée à la trompette \, \nIl y a LE grand John Wayne \, \nIl y a LE crooner Dean Martin \, \nIl y a LA scène d’intro inoubliable … \nOn parlera amitié\, rapports femmes/hommes\, trinité\, salut\, vulnérabilité\, humour dans l’amour\, tout cela et bien plus encore.
URL:https://www.catoco.net/evenements/cine-club-paraboles-rio-bravo/
LOCATION:Cinéma Majestic\, Place Jacques Tati\, Jaux\, 60880\, France
CATEGORIES:Association
ATTACH;FMTTYPE=image/jpeg:https://www.catoco.net/wp-content/uploads/2025/05/CineClubParaboleRioBravo2025-mini.jpg
END:VEVENT
BEGIN:VEVENT
DTSTART;TZID=Europe/Paris:20250612T183000
DTEND;TZID=Europe/Paris:20250612T193000
DTSTAMP:20260423T104242
CREATED:20250611T081812Z
LAST-MODIFIED:20250611T081812Z
UID:43642-1749753000-1749756600@www.catoco.net
SUMMARY:Audition d’orgue à Saint Jacques
DESCRIPTION:
URL:https://www.catoco.net/evenements/audition-dorgue-a-saint-jacques/
LOCATION:Eglise Saint Jacques\, Place Saint Jacques\, Compiègne\, 60200\, France
CATEGORIES:Association
ATTACH;FMTTYPE=image/jpeg:https://www.catoco.net/wp-content/uploads/2025/06/AuditionOrgue-Mini.jpg
END:VEVENT
BEGIN:VEVENT
DTSTART;TZID=Europe/Paris:20250614T150000
DTEND;TZID=Europe/Paris:20250614T200000
DTSTAMP:20260423T104242
CREATED:20250611T080924Z
LAST-MODIFIED:20250611T080924Z
UID:43637-1749913200-1749931200@www.catoco.net
SUMMARY:La Nuit du Handicap
DESCRIPTION:
URL:https://www.catoco.net/evenements/la-nuit-du-handicap/
LOCATION:Haras de Compiegne\, 1 Bd Victor Hugo\, Compiegne\, 60200
CATEGORIES:Association
ATTACH;FMTTYPE=image/png:https://www.catoco.net/wp-content/uploads/2025/06/NuitHandicap-Principale.png
END:VEVENT
END:VCALENDAR