BEGIN:VCALENDAR
VERSION:2.0
PRODID:-//Catoco - ECPv6.15.20//NONSGML v1.0//EN
CALSCALE:GREGORIAN
METHOD:PUBLISH
X-WR-CALNAME:Catoco
X-ORIGINAL-URL:https://www.catoco.net
X-WR-CALDESC:Évènements pour Catoco
REFRESH-INTERVAL;VALUE=DURATION:PT1H
X-Robots-Tag:noindex
X-PUBLISHED-TTL:PT1H
BEGIN:VTIMEZONE
TZID:Europe/Paris
BEGIN:DAYLIGHT
TZOFFSETFROM:+0100
TZOFFSETTO:+0200
TZNAME:CEST
DTSTART:20240331T010000
END:DAYLIGHT
BEGIN:STANDARD
TZOFFSETFROM:+0200
TZOFFSETTO:+0100
TZNAME:CET
DTSTART:20241027T010000
END:STANDARD
BEGIN:DAYLIGHT
TZOFFSETFROM:+0100
TZOFFSETTO:+0200
TZNAME:CEST
DTSTART:20250330T010000
END:DAYLIGHT
BEGIN:STANDARD
TZOFFSETFROM:+0200
TZOFFSETTO:+0100
TZNAME:CET
DTSTART:20251026T010000
END:STANDARD
BEGIN:DAYLIGHT
TZOFFSETFROM:+0100
TZOFFSETTO:+0200
TZNAME:CEST
DTSTART:20260329T010000
END:DAYLIGHT
BEGIN:STANDARD
TZOFFSETFROM:+0200
TZOFFSETTO:+0100
TZNAME:CET
DTSTART:20261025T010000
END:STANDARD
END:VTIMEZONE
BEGIN:VEVENT
DTSTART;TZID=Europe/Paris:20250109T200000
DTEND;TZID=Europe/Paris:20250109T230000
DTSTAMP:20260425T153513
CREATED:20241219T221944Z
LAST-MODIFIED:20241219T221944Z
UID:42457-1736452800-1736463600@www.catoco.net
SUMMARY:Cineclub Paraboles
DESCRIPTION:🎥 Venez voir ou revoir avec nous Captain Fantastic\, film indépendant américain sorti en 2016. \n🧔 Viggo Mortensen (Aragorn dans le Seigneur des Anneaux) tombe la cape et l’épée pour devenir avec crédibilité et intensité un père de famille idéal\, qui a décidé d’éduquer ses enfants en pleine nature. \n🤷‍♂️ Idéal … Vraiment ? Telle sera la question ! \nParaboliquement vôtre ! \nL’équipe du ciné-club : Constance\, Thibaut\, Hugues\, Paul\, et Régis. \ncineparaboles@gmail.com
URL:https://www.catoco.net/evenements/cineclub-paraboles/
LOCATION:Cinéma Majestic\, Place Jacques Tati\, Jaux\, 60880\, France
CATEGORIES:Association
ATTACH;FMTTYPE=image/jpeg:https://www.catoco.net/wp-content/uploads/2024/12/Cineparabole-mini.jpg
END:VEVENT
END:VCALENDAR