BEGIN:VCALENDAR
VERSION:2.0
PRODID:-//Catoco - ECPv6.15.20//NONSGML v1.0//EN
CALSCALE:GREGORIAN
METHOD:PUBLISH
X-ORIGINAL-URL:https://www.catoco.net
X-WR-CALDESC:Évènements pour Catoco
REFRESH-INTERVAL;VALUE=DURATION:PT1H
X-Robots-Tag:noindex
X-PUBLISHED-TTL:PT1H
BEGIN:VTIMEZONE
TZID:Europe/Paris
BEGIN:DAYLIGHT
TZOFFSETFROM:+0100
TZOFFSETTO:+0200
TZNAME:CEST
DTSTART:20230326T010000
END:DAYLIGHT
BEGIN:STANDARD
TZOFFSETFROM:+0200
TZOFFSETTO:+0100
TZNAME:CET
DTSTART:20231029T010000
END:STANDARD
BEGIN:DAYLIGHT
TZOFFSETFROM:+0100
TZOFFSETTO:+0200
TZNAME:CEST
DTSTART:20240331T010000
END:DAYLIGHT
BEGIN:STANDARD
TZOFFSETFROM:+0200
TZOFFSETTO:+0100
TZNAME:CET
DTSTART:20241027T010000
END:STANDARD
BEGIN:DAYLIGHT
TZOFFSETFROM:+0100
TZOFFSETTO:+0200
TZNAME:CEST
DTSTART:20250330T010000
END:DAYLIGHT
BEGIN:STANDARD
TZOFFSETFROM:+0200
TZOFFSETTO:+0100
TZNAME:CET
DTSTART:20251026T010000
END:STANDARD
END:VTIMEZONE
BEGIN:VEVENT
DTSTART;TZID=Europe/Paris:20241206T203000
DTEND;TZID=Europe/Paris:20241206T220000
DTSTAMP:20260425T173909
CREATED:20241126T211738Z
LAST-MODIFIED:20241126T211738Z
UID:42268-1733517000-1733522400@www.catoco.net
SUMMARY:Concert de Noël
DESCRIPTION:Vous vivrez un moment privilégié\, transportés par la pureté des voix cristallines de 50 garçons\, qui vous feront vibrer au rythme de leurs chants et de leur passion.\nExtraits du Messie de Haendel et les plus beaux chants de Noël d’hier et d’aujourd’hui : Douce Nuit\, les Anges dans nos campagnes\, Minuit Chrétien…\nUn des plus prestigieux chœurs de garçons français\, créé sous sa forme actuelle en 1956\, la Maîtrise a pour mission de faire découvrir les richesses de la musique sacrée et transmettre un message de paix.\nSous la direction de François Polgár – ancien chef à l’Opéra de Paris\, puis Chef du chœur de Radio France – ils continuent\, avec le même enthousiasme\, à parcourir la France et le monde en chantant.\nIls se sont déjà produits au Canada\, Russie\, Corée\, Chine\, USA\, Emirats\, Argentine\, Uruguay…\nHabitués des grandes scènes internationales (Théâtre des Champs Élysées\, Chapelle Royale de Versailles\, Olympia\, Beijing Concert Hall\, Shanghaï Oriental Art Center\, Opéra de Canton\, Casa da Música de Porto\, Opéra de Palerme…)\, ils reviennent pour la deuxième fois à Compiègne et nous promettent un spectacle plein d’émotion autour du mystère de la nuit de Noël ! \nConcert familial d’une durée d’1h30 environ.\nConcert organisé par votre AFC et la Ville de Compiègne dans le cadre de  « Chorales en Ville » \nPlaces réservées si prises à l’avance. \nNous vous recommandons de réserver vos places : \n\nEn scannant le QR code affiche\n\n\nou en cliquant    JE RÉSERVE    \nou par retour de mail : afcducompiegnois@gmail.com \nou par téléphone : 06 76 59 35 94 \n\n\n\n\n\n\n\n\n\n\n\n\n\n\nAssociation Familiale Catholique du Compiégnois\n\n30 bis rue Saint Lazare 60200 Compiègne\n \nhttp://www.afc-france.org
URL:https://www.catoco.net/evenements/concert-de-noel/
LOCATION:Eglise Saint Antoine\, 10 Rue Saint-Antoine\, Compiègne\, 60200
CATEGORIES:Association
ATTACH;FMTTYPE=image/jpeg:https://www.catoco.net/wp-content/uploads/2024/11/ConcertNoel2024_mini-scaled.jpg
END:VEVENT
END:VCALENDAR